BEGIN:VCALENDAR
VERSION:2.0
PRODID:-//Mill Valley Golf Club - ECPv6.15.20//NONSGML v1.0//EN
CALSCALE:GREGORIAN
METHOD:PUBLISH
X-ORIGINAL-URL:https://millvalleygolfclub.com
X-WR-CALDESC:Events for Mill Valley Golf Club
REFRESH-INTERVAL;VALUE=DURATION:PT1H
X-Robots-Tag:noindex
X-PUBLISHED-TTL:PT1H
BEGIN:VTIMEZONE
TZID:America/Los_Angeles
BEGIN:DAYLIGHT
TZOFFSETFROM:-0800
TZOFFSETTO:-0700
TZNAME:PDT
DTSTART:20250309T100000
END:DAYLIGHT
BEGIN:STANDARD
TZOFFSETFROM:-0700
TZOFFSETTO:-0800
TZNAME:PST
DTSTART:20251102T090000
END:STANDARD
BEGIN:DAYLIGHT
TZOFFSETFROM:-0800
TZOFFSETTO:-0700
TZNAME:PDT
DTSTART:20260308T100000
END:DAYLIGHT
BEGIN:STANDARD
TZOFFSETFROM:-0700
TZOFFSETTO:-0800
TZNAME:PST
DTSTART:20261101T090000
END:STANDARD
BEGIN:DAYLIGHT
TZOFFSETFROM:-0800
TZOFFSETTO:-0700
TZNAME:PDT
DTSTART:20270314T100000
END:DAYLIGHT
BEGIN:STANDARD
TZOFFSETFROM:-0700
TZOFFSETTO:-0800
TZNAME:PST
DTSTART:20271107T090000
END:STANDARD
END:VTIMEZONE
BEGIN:VEVENT
DTSTART;TZID=America/Los_Angeles:20260508T083000
DTEND;TZID=America/Los_Angeles:20260508T100000
DTSTAMP:20260423T014129
CREATED:20260422T020216Z
LAST-MODIFIED:20260423T012533Z
UID:7657-1778229000-1778234400@millvalleygolfclub.com
SUMMARY:NCGA Zone Championship Qualifier
DESCRIPTION:Here’s another great opportunity to enjoy some friendly competition while taking advantage of one of the best benefits of belonging to an NCGA club. \nIt’s time to qualify for the NCGA Zone Championship\, scheduled for Friday\, May 8. This is a fantastic chance to compete in a 36-hole event at Poppy Hills and Old Del Monte—at no additional charge including a stipend for lodging\, paid for by YOUR golf club! \nQualifier Details:\nFormat: 18-hole qualifier\nAdvancement: The three lowest net scores will join our current club champion\, Ryan Acton\, to represent MVGC\nChampionship Dates: June 8–9 (please ensure you’re available to play in Monterey on these dates) \nTee Times (May 8):\n8:30 AM – 10:00 AM (based on field size)\nEntry Fee:\n$40 plus applicable green fees\n(This covers all championship golf for our four-man team—one of the many perks of our club!) \nFormat:\n18 holes of stroke play\nAny ties for qualifying spots will be decided by a sudden-death playoff immediately following score posting\nRegistration:\nOpens: April 22\nCloses: Tuesday\, May 5 at 10:00 AM \nWe hope many of you will take advantage of this opportunity.
URL:https://millvalleygolfclub.com/mvgc-event/ncga-zone-championship-qualifier/
LOCATION:Mill Valley Golf Course\, 280 Buena Vista Avenue\, Mill Valley\, CA\, 94941\, United States
CATEGORIES:Events,Tournaments
ATTACH;FMTTYPE=image/png:https://millvalleygolfclub.com/wp-content/uploads/2026/02/Screenshot-2026-02-16-at-1.08.22-PM.png
END:VEVENT
BEGIN:VEVENT
DTSTART;TZID=America/Los_Angeles:20260513T180000
DTEND;TZID=America/Los_Angeles:20260513T220000
DTSTAMP:20260423T014129
CREATED:20260408T230629Z
LAST-MODIFIED:20260417T182048Z
UID:7567-1778695200-1778709600@millvalleygolfclub.com
SUMMARY:Cinco De Mayo Dinner
DESCRIPTION:Please join us on Wednesday May 13th to celebrate Cinco De Mayo at the Mill Valley Golf Club Clubhouse.\n\nCocktails at 6pm – Dinner around 7pm – Raffle follows\n\nOn the Menu…\n\n\n\nSTREET TACO BAR:\nCarnitas\nShredded Chicken\nGround Beef\nw/Pico De Gallo\, Green & Red Salsas\, Cheese\, Onions\, Cilantro\, Crema\n\nChicken and Cheese Enchiladas\n\nSpanish Rice\nRefried Beans\nWhole Pinto Beans\nTraditional Green Salad\nChips\, Salsa\, Guacamole\n\n\nPlenty of Ice Cold Modelo and Corona Beer.\n\n\nPlus a Full Bar…  Can you say\, Tequila – I know ya can!!!\n\n\nAll In For $30 Per Person
URL:https://millvalleygolfclub.com/mvgc-event/cinco-de-mayo-dinner/
LOCATION:CA
CATEGORIES:Dinners,Events
ATTACH;FMTTYPE=image/png:https://millvalleygolfclub.com/wp-content/uploads/2026/04/Screenshot-2026-04-08-at-4.09.12-PM.png
END:VEVENT
BEGIN:VEVENT
DTSTART;TZID=America/Los_Angeles:20260515T180000
DTEND;TZID=America/Los_Angeles:20260515T220000
DTSTAMP:20260423T014129
CREATED:20260408T231521Z
LAST-MODIFIED:20260408T231603Z
UID:7571-1778868000-1778882400@millvalleygolfclub.com
SUMMARY:Karaoke Night at the Clubhouse!
DESCRIPTION:Get your pipes tuned up for our first ever Friday night karaoke event. Details coming soon\,
URL:https://millvalleygolfclub.com/mvgc-event/karaoke-night-at-the-clubhouse/
LOCATION:CA
CATEGORIES:Events,Special Events
END:VEVENT
BEGIN:VEVENT
DTSTART;TZID=America/Los_Angeles:20260520T164500
DTEND;TZID=America/Los_Angeles:20260520T190000
DTSTAMP:20260423T014129
CREATED:20260303T230155Z
LAST-MODIFIED:20260306T165358Z
UID:6901-1779295500-1779303600@millvalleygolfclub.com
SUMMARY:Women's Wine and Nine
DESCRIPTION:Join us for nine holes of camaraderie and fun at MVGC on Wednesday\, May 20th! This event is designed for women of all skill levels\, from beginners to seasoned players—everyone is welcome. Please arrive at 4:45pm. We tee off promptly at 5pm and end with wine and cocktails 6:30pm in front of the golf shop. $30 entry includes green fees and drink of choice\, plus discounts at Porch 1919. Open to MVGC women golf and social members only. \nTickets available beginning May 1st. \nClick HERE to join the club 🙂
URL:https://millvalleygolfclub.com/mvgc-event/womens-wine-and-nine-2/
LOCATION:CA
CATEGORIES:Events,Wine and Nines
ATTACH;FMTTYPE=image/jpeg:https://millvalleygolfclub.com/wp-content/uploads/2026/03/mvgc-wine-nine-image_0002_winenine-3.jpg
END:VEVENT
BEGIN:VEVENT
DTSTART;TZID=America/Los_Angeles:20260610T180000
DTEND;TZID=America/Los_Angeles:20260610T220000
DTSTAMP:20260423T014129
CREATED:20260408T231820Z
LAST-MODIFIED:20260408T231820Z
UID:7573-1781114400-1781128800@millvalleygolfclub.com
SUMMARY:MVGC Monthly Dinner
DESCRIPTION:Delicious details coming soon…
URL:https://millvalleygolfclub.com/mvgc-event/mvgc-monthly-dinner/
LOCATION:CA
CATEGORIES:Events,Special Events
END:VEVENT
BEGIN:VEVENT
DTSTART;TZID=America/Los_Angeles:20260618T164500
DTEND;TZID=America/Los_Angeles:20260618T193000
DTSTAMP:20260423T014129
CREATED:20260303T232118Z
LAST-MODIFIED:20260306T165102Z
UID:6905-1781801100-1781811000@millvalleygolfclub.com
SUMMARY:Women's Wine and Nine
DESCRIPTION:Join us for nine holes of camaraderie and fun at MVGC on. Thursday\, June 18th! This event is designed for women of all skill levels\, from beginners to seasoned players—everyone is welcome. Please arrive at 4:45pm. We tee off promptly at 5pm and end with wine and cocktails 6:30pm in front of the golf shop. $30 entry includes green fees and drink of choice\, plus discounts at the Porch 1919. Open to MVGC women golf and social members only. \nTickets available beginning June 1st. \nClick HERE to join the club 🙂
URL:https://millvalleygolfclub.com/mvgc-event/womens-wine-and-nine-3/
LOCATION:CA
CATEGORIES:Events,Wine and Nines
ATTACH;FMTTYPE=image/jpeg:https://millvalleygolfclub.com/wp-content/uploads/2026/03/mvgc-wine-nine-image_0003_winenine-2.jpg
END:VEVENT
BEGIN:VEVENT
DTSTART;TZID=America/Los_Angeles:20260619T180000
DTEND;TZID=America/Los_Angeles:20260619T230000
DTSTAMP:20260423T014129
CREATED:20260408T232102Z
LAST-MODIFIED:20260408T232102Z
UID:7575-1781892000-1781910000@millvalleygolfclub.com
SUMMARY:MVGC Gaming Night!
DESCRIPTION:Poker\, blackjack\, shuffleboard\, food and drinks\, and music. More details to come…
URL:https://millvalleygolfclub.com/mvgc-event/mvgc-gaming-night/
LOCATION:Mill Valley Golf Clubhouse\, 280 Buena Vista Ave\, Mill Valley\, CA\, 94941\, United States
CATEGORIES:Events,Special Events
END:VEVENT
END:VCALENDAR