BEGIN:VCALENDAR
VERSION:2.0
PRODID:-//Mill Valley Golf Club - ECPv6.15.20//NONSGML v1.0//EN
CALSCALE:GREGORIAN
METHOD:PUBLISH
X-WR-CALNAME:Mill Valley Golf Club
X-ORIGINAL-URL:https://millvalleygolfclub.com
X-WR-CALDESC:Events for Mill Valley Golf Club
REFRESH-INTERVAL;VALUE=DURATION:PT1H
X-Robots-Tag:noindex
X-PUBLISHED-TTL:PT1H
BEGIN:VTIMEZONE
TZID:America/Los_Angeles
BEGIN:DAYLIGHT
TZOFFSETFROM:-0800
TZOFFSETTO:-0700
TZNAME:PDT
DTSTART:20240310T100000
END:DAYLIGHT
BEGIN:STANDARD
TZOFFSETFROM:-0700
TZOFFSETTO:-0800
TZNAME:PST
DTSTART:20241103T090000
END:STANDARD
BEGIN:DAYLIGHT
TZOFFSETFROM:-0800
TZOFFSETTO:-0700
TZNAME:PDT
DTSTART:20250309T100000
END:DAYLIGHT
BEGIN:STANDARD
TZOFFSETFROM:-0700
TZOFFSETTO:-0800
TZNAME:PST
DTSTART:20251102T090000
END:STANDARD
BEGIN:DAYLIGHT
TZOFFSETFROM:-0800
TZOFFSETTO:-0700
TZNAME:PDT
DTSTART:20260308T100000
END:DAYLIGHT
BEGIN:STANDARD
TZOFFSETFROM:-0700
TZOFFSETTO:-0800
TZNAME:PST
DTSTART:20261101T090000
END:STANDARD
END:VTIMEZONE
BEGIN:VEVENT
DTSTART;VALUE=DATE:20251122
DTEND;VALUE=DATE:20251123
DTSTAMP:20260421T165718
CREATED:20240822T221820Z
LAST-MODIFIED:20251120T224424Z
UID:3985-1763769600-1763855999@millvalleygolfclub.com
SUMMARY:2025 Turkey Trot Tournament
DESCRIPTION:The 2025 Three Club Turkey Trot Tournament will take place Saturday\, November 22. The Turkey Trot will be a Three Club\, 9-Hole\, individual Stroke Play tourney using the Flag Format with a full 9-hole handicap\, winter rules; lift\, clean\, and place. Choose your clubs wisely\, good luck\, and GOBBLE UP! \nGross & Net Champions (1st\, 2nd\, & 3rd Place + Closest to the Pin). Maximum handicap allowed of 18.4 for men and 25.4 for women. \nPlease contact the Tournament Committee with any questions: \n\nPeter Noerr: peter.noerr@gmail.com\nDoug Actaon: swingmechanic@pga.com
URL:https://millvalleygolfclub.com/mvgc-event/2025-turkey-trot-tournament/
LOCATION:Mill Valley Golf Course\, 280 Buena Vista Avenue\, Mill Valley\, CA\, 94941\, United States
CATEGORIES:Tournaments
ATTACH;FMTTYPE=image/jpeg:https://millvalleygolfclub.com/wp-content/uploads/2024/08/mvgc-turkey-trot-header.jpg
ORGANIZER;CN="Peter Noerr":MAILTO:peter.noerr@gmail.com
END:VEVENT
END:VCALENDAR