BEGIN:VCALENDAR
VERSION:2.0
PRODID:-//Mill Valley Golf Club - ECPv6.15.20//NONSGML v1.0//EN
CALSCALE:GREGORIAN
METHOD:PUBLISH
X-ORIGINAL-URL:https://millvalleygolfclub.com
X-WR-CALDESC:Events for Mill Valley Golf Club
REFRESH-INTERVAL;VALUE=DURATION:PT1H
X-Robots-Tag:noindex
X-PUBLISHED-TTL:PT1H
BEGIN:VTIMEZONE
TZID:America/Los_Angeles
BEGIN:DAYLIGHT
TZOFFSETFROM:-0800
TZOFFSETTO:-0700
TZNAME:PDT
DTSTART:20240310T100000
END:DAYLIGHT
BEGIN:STANDARD
TZOFFSETFROM:-0700
TZOFFSETTO:-0800
TZNAME:PST
DTSTART:20241103T090000
END:STANDARD
BEGIN:DAYLIGHT
TZOFFSETFROM:-0800
TZOFFSETTO:-0700
TZNAME:PDT
DTSTART:20250309T100000
END:DAYLIGHT
BEGIN:STANDARD
TZOFFSETFROM:-0700
TZOFFSETTO:-0800
TZNAME:PST
DTSTART:20251102T090000
END:STANDARD
BEGIN:DAYLIGHT
TZOFFSETFROM:-0800
TZOFFSETTO:-0700
TZNAME:PDT
DTSTART:20260308T100000
END:DAYLIGHT
BEGIN:STANDARD
TZOFFSETFROM:-0700
TZOFFSETTO:-0800
TZNAME:PST
DTSTART:20261101T090000
END:STANDARD
END:VTIMEZONE
BEGIN:VEVENT
DTSTART;TZID=America/Los_Angeles:20251213T070000
DTEND;TZID=America/Los_Angeles:20251213T120000
DTSTAMP:20260421T170229
CREATED:20240822T222201Z
LAST-MODIFIED:20251211T161031Z
UID:3986-1765609200-1765627200@millvalleygolfclub.com
SUMMARY:2025 Holiday Shamble Tournament
DESCRIPTION:The 2025 Holiday Shamble Tournament will take place Saturday\, December 13.  \nGrab a partner and get ready for the holiday season! Join us for this 2-Person Shamble format (variation of a scramble).  \nGross & Net Champions (1st\, 2nd\, & 3rd Place + Closest to the Pin) \nPlease contact the Tournament Committee with any questions: \n\nPeter Noerr: peter.noerr@gmail.com\nSam Suzuki: samsuzuki415@gmail.com
URL:https://millvalleygolfclub.com/mvgc-event/2025-holiday-shamble-tournament/
LOCATION:Mill Valley Golf Course\, 280 Buena Vista Avenue\, Mill Valley\, CA\, 94941\, United States
CATEGORIES:Tournaments
ATTACH;FMTTYPE=image/png:https://millvalleygolfclub.com/wp-content/uploads/2024/08/mvgc-xmas-tree-small.png
ORGANIZER;CN="Peter Noerr":MAILTO:peter.noerr@gmail.com
END:VEVENT
END:VCALENDAR