BEGIN:VCALENDAR
VERSION:2.0
PRODID:-//Mill Valley Golf Club - ECPv6.15.20//NONSGML v1.0//EN
CALSCALE:GREGORIAN
METHOD:PUBLISH
X-WR-CALNAME:Mill Valley Golf Club
X-ORIGINAL-URL:https://millvalleygolfclub.com
X-WR-CALDESC:Events for Mill Valley Golf Club
REFRESH-INTERVAL;VALUE=DURATION:PT1H
X-Robots-Tag:noindex
X-PUBLISHED-TTL:PT1H
BEGIN:VTIMEZONE
TZID:America/Los_Angeles
BEGIN:DAYLIGHT
TZOFFSETFROM:-0800
TZOFFSETTO:-0700
TZNAME:PDT
DTSTART:20250309T100000
END:DAYLIGHT
BEGIN:STANDARD
TZOFFSETFROM:-0700
TZOFFSETTO:-0800
TZNAME:PST
DTSTART:20251102T090000
END:STANDARD
BEGIN:DAYLIGHT
TZOFFSETFROM:-0800
TZOFFSETTO:-0700
TZNAME:PDT
DTSTART:20260308T100000
END:DAYLIGHT
BEGIN:STANDARD
TZOFFSETFROM:-0700
TZOFFSETTO:-0800
TZNAME:PST
DTSTART:20261101T090000
END:STANDARD
BEGIN:DAYLIGHT
TZOFFSETFROM:-0800
TZOFFSETTO:-0700
TZNAME:PDT
DTSTART:20270314T100000
END:DAYLIGHT
BEGIN:STANDARD
TZOFFSETFROM:-0700
TZOFFSETTO:-0800
TZNAME:PST
DTSTART:20271107T090000
END:STANDARD
END:VTIMEZONE
BEGIN:VEVENT
DTSTART;TZID=America/Los_Angeles:20260328T073000
DTEND;TZID=America/Los_Angeles:20260328T140000
DTSTAMP:20260421T114601
CREATED:20260216T210951Z
LAST-MODIFIED:20260328T135147Z
UID:6770-1774683000-1774706400@millvalleygolfclub.com
SUMMARY:NCGA 4 Ball Net Qualifier
DESCRIPTION:Grab a partner and try to make it to the NCGA Poppy Hills finals. 2 players per team. Our top 2 teams advance to the NCGA qualifying round that takes place at a number of different golf courses. MVGC pays for your qualifier tournament. \nFormat: Four-Ball net stroke play.18 holes qualifying. 48 teams will advance to the championship. The championship proper will be 36 holes stroke play (18 holes per day). Play will be 85% (men and women) of the Course Handicap using a maximum Handicap Index of 18.4 for calculation. The event is hosted by the NCGA\, with officials on the course\, electronic leaderboard\, free lunch\, and a stipend for lodging from your MVGC. MVGC pays your championship tournament fees AND gives you and your partner a generous stipend for lodging! \nSignup now!
URL:https://millvalleygolfclub.com/mvgc-event/ncga-4-ball-net-qualifier/
LOCATION:Mill Valley Golf Course\, 280 Buena Vista Avenue\, Mill Valley\, CA\, 94941\, United States
CATEGORIES:Events,Tournaments
ATTACH;FMTTYPE=image/png:https://millvalleygolfclub.com/wp-content/uploads/2026/02/Screenshot-2026-02-16-at-1.08.22-PM.png
END:VEVENT
END:VCALENDAR