BEGIN:VCALENDAR
VERSION:2.0
PRODID:-//Mill Valley Golf Club - ECPv6.15.20//NONSGML v1.0//EN
CALSCALE:GREGORIAN
METHOD:PUBLISH
X-ORIGINAL-URL:https://millvalleygolfclub.com
X-WR-CALDESC:Events for Mill Valley Golf Club
REFRESH-INTERVAL;VALUE=DURATION:PT1H
X-Robots-Tag:noindex
X-PUBLISHED-TTL:PT1H
BEGIN:VTIMEZONE
TZID:America/Los_Angeles
BEGIN:DAYLIGHT
TZOFFSETFROM:-0800
TZOFFSETTO:-0700
TZNAME:PDT
DTSTART:20250309T100000
END:DAYLIGHT
BEGIN:STANDARD
TZOFFSETFROM:-0700
TZOFFSETTO:-0800
TZNAME:PST
DTSTART:20251102T090000
END:STANDARD
BEGIN:DAYLIGHT
TZOFFSETFROM:-0800
TZOFFSETTO:-0700
TZNAME:PDT
DTSTART:20260308T100000
END:DAYLIGHT
BEGIN:STANDARD
TZOFFSETFROM:-0700
TZOFFSETTO:-0800
TZNAME:PST
DTSTART:20261101T090000
END:STANDARD
BEGIN:DAYLIGHT
TZOFFSETFROM:-0800
TZOFFSETTO:-0700
TZNAME:PDT
DTSTART:20270314T100000
END:DAYLIGHT
BEGIN:STANDARD
TZOFFSETFROM:-0700
TZOFFSETTO:-0800
TZNAME:PST
DTSTART:20271107T090000
END:STANDARD
END:VTIMEZONE
BEGIN:VEVENT
DTSTART;TZID=America/Los_Angeles:20260404T070000
DTEND;TZID=America/Los_Angeles:20260404T150000
DTSTAMP:20260421T101058
CREATED:20260316T213613Z
LAST-MODIFIED:20260402T152613Z
UID:7163-1775286000-1775314800@millvalleygolfclub.com
SUMMARY:2026 Masters Tournament
DESCRIPTION:The Masters is coming to Mill Valley National! \nOur next members only MVGC Golf Club event is right around the corner. Scheduled for Saturday April 4. The 2026 Masters is a 9 hole individual stroke play event. Entry fee is only $30\, with 100% awarded to the top 1/3 of the field for both low gross and low net scores\, as well as closest to the pin on all par 3’s and a long drive hole as well. \nKemperSports is happy to support their favorite Golf Club\, offering all tournament players 25% off all food and beverage from Porch 1919 for the entire day (breakfast\, lunch and your favorite beverages!) as well as allowing us to block tee times for up to 80 players. Sign up with your favorite foursome or as a single and make some new friends from our fun filled crew. Early birds can choose from an early to mid to late morning start to help fit us into your busy life. Entries will close at 11AM\, Thursday\, April 2. \nGo to our website \, millvalleygolfclub.com to enter today. Hoping to have a big field to see who can be the Master of our domain. As always\, our club events are open to both men and women\, with other humans allowed as Patrons to gallery all the fun. Out of respect to your fellow competitors\, please leave your dog at home for this day on the links. \nQuestions / comments are always welcome\, hit me up at swingmechanic@pga.com \nSwing well!\nDoug Acton
URL:https://millvalleygolfclub.com/mvgc-event/2026-masters-tournament/
CATEGORIES:Events,Tournaments
ATTACH;FMTTYPE=image/png:https://millvalleygolfclub.com/wp-content/uploads/2026/03/mvgc-masters-4-site.png
END:VEVENT
END:VCALENDAR