BEGIN:VCALENDAR
VERSION:2.0
PRODID:-//Mill Valley Golf Club - ECPv6.15.20//NONSGML v1.0//EN
CALSCALE:GREGORIAN
METHOD:PUBLISH
X-ORIGINAL-URL:https://millvalleygolfclub.com
X-WR-CALDESC:Events for Mill Valley Golf Club
REFRESH-INTERVAL;VALUE=DURATION:PT1H
X-Robots-Tag:noindex
X-PUBLISHED-TTL:PT1H
BEGIN:VTIMEZONE
TZID:America/Los_Angeles
BEGIN:DAYLIGHT
TZOFFSETFROM:-0800
TZOFFSETTO:-0700
TZNAME:PDT
DTSTART:20250309T100000
END:DAYLIGHT
BEGIN:STANDARD
TZOFFSETFROM:-0700
TZOFFSETTO:-0800
TZNAME:PST
DTSTART:20251102T090000
END:STANDARD
BEGIN:DAYLIGHT
TZOFFSETFROM:-0800
TZOFFSETTO:-0700
TZNAME:PDT
DTSTART:20260308T100000
END:DAYLIGHT
BEGIN:STANDARD
TZOFFSETFROM:-0700
TZOFFSETTO:-0800
TZNAME:PST
DTSTART:20261101T090000
END:STANDARD
BEGIN:DAYLIGHT
TZOFFSETFROM:-0800
TZOFFSETTO:-0700
TZNAME:PDT
DTSTART:20270314T100000
END:DAYLIGHT
BEGIN:STANDARD
TZOFFSETFROM:-0700
TZOFFSETTO:-0800
TZNAME:PST
DTSTART:20271107T090000
END:STANDARD
END:VTIMEZONE
BEGIN:VEVENT
DTSTART;TZID=America/Los_Angeles:20260614T073000
DTEND;TZID=America/Los_Angeles:20260614T120000
DTSTAMP:20260421T071538
CREATED:20260218T000632Z
LAST-MODIFIED:20260218T000834Z
UID:6796-1781422200-1781438400@millvalleygolfclub.com
SUMMARY:MVGC Impossible Open
DESCRIPTION:Format: Individual Stableford \nMore info and signups coming soon…
URL:https://millvalleygolfclub.com/mvgc-event/mvgc-impossible-open/
CATEGORIES:Tournaments
ATTACH;FMTTYPE=image/png:https://millvalleygolfclub.com/wp-content/uploads/2026/02/Stableford-Scoring-1024x512-1.png
END:VEVENT
BEGIN:VEVENT
DTSTART;TZID=America/Los_Angeles:20260712T080000
DTEND;TZID=America/Los_Angeles:20260712T170000
DTSTAMP:20260421T071538
CREATED:20260218T001047Z
LAST-MODIFIED:20260218T001047Z
UID:6799-1783843200-1783875600@millvalleygolfclub.com
SUMMARY:British Open & NCGA Net Qualifier
DESCRIPTION:Format: 18 holes Individual Stroke Play \nSignups and more info coming soon…
URL:https://millvalleygolfclub.com/mvgc-event/british-open-ncga-net-qualifier/
CATEGORIES:Tournaments
END:VEVENT
BEGIN:VEVENT
DTSTART;TZID=America/Los_Angeles:20260912T073000
DTEND;TZID=America/Los_Angeles:20260912T120000
DTSTAMP:20260421T071538
CREATED:20260218T001258Z
LAST-MODIFIED:20260218T001341Z
UID:6801-1789198200-1789214400@millvalleygolfclub.com
SUMMARY:MVGC Club Championship Qualifier
DESCRIPTION:Format: 18 holes\, Both Gross and Net Divisions \nMore info and signups coming soon…
URL:https://millvalleygolfclub.com/mvgc-event/club-championship-qualifier/
CATEGORIES:Tournaments
END:VEVENT
BEGIN:VEVENT
DTSTART;TZID=America/Los_Angeles:20261011T090000
DTEND;TZID=America/Los_Angeles:20261011T140000
DTSTAMP:20260421T071538
CREATED:20260218T001500Z
LAST-MODIFIED:20260218T001514Z
UID:6804-1791709200-1791727200@millvalleygolfclub.com
SUMMARY:MVGC Club Championship Finals!
DESCRIPTION:The Finals!
URL:https://millvalleygolfclub.com/mvgc-event/mvgc-club-championship-finals/
CATEGORIES:Tournaments
END:VEVENT
BEGIN:VEVENT
DTSTART;TZID=America/Los_Angeles:20261025T073000
DTEND;TZID=America/Los_Angeles:20261025T120000
DTSTAMP:20260421T071538
CREATED:20260218T001622Z
LAST-MODIFIED:20260218T002107Z
UID:6807-1792913400-1792929600@millvalleygolfclub.com
SUMMARY:MVGC 3 Club Championship
DESCRIPTION:Format: 3 clubs\, baby! \nMore info and signups coming soon…
URL:https://millvalleygolfclub.com/mvgc-event/mvgc-3-club-championship/
CATEGORIES:Tournaments
END:VEVENT
END:VCALENDAR