BEGIN:VCALENDAR
VERSION:2.0
PRODID:-//Mill Valley Golf Club - ECPv6.15.20//NONSGML v1.0//EN
CALSCALE:GREGORIAN
METHOD:PUBLISH
X-WR-CALNAME:Mill Valley Golf Club
X-ORIGINAL-URL:https://millvalleygolfclub.com
X-WR-CALDESC:Events for Mill Valley Golf Club
REFRESH-INTERVAL;VALUE=DURATION:PT1H
X-Robots-Tag:noindex
X-PUBLISHED-TTL:PT1H
BEGIN:VTIMEZONE
TZID:America/Los_Angeles
BEGIN:DAYLIGHT
TZOFFSETFROM:-0800
TZOFFSETTO:-0700
TZNAME:PDT
DTSTART:20230312T100000
END:DAYLIGHT
BEGIN:STANDARD
TZOFFSETFROM:-0700
TZOFFSETTO:-0800
TZNAME:PST
DTSTART:20231105T090000
END:STANDARD
BEGIN:DAYLIGHT
TZOFFSETFROM:-0800
TZOFFSETTO:-0700
TZNAME:PDT
DTSTART:20240310T100000
END:DAYLIGHT
BEGIN:STANDARD
TZOFFSETFROM:-0700
TZOFFSETTO:-0800
TZNAME:PST
DTSTART:20241103T090000
END:STANDARD
BEGIN:DAYLIGHT
TZOFFSETFROM:-0800
TZOFFSETTO:-0700
TZNAME:PDT
DTSTART:20250309T100000
END:DAYLIGHT
BEGIN:STANDARD
TZOFFSETFROM:-0700
TZOFFSETTO:-0800
TZNAME:PST
DTSTART:20251102T090000
END:STANDARD
BEGIN:DAYLIGHT
TZOFFSETFROM:-0800
TZOFFSETTO:-0700
TZNAME:PDT
DTSTART:20260308T100000
END:DAYLIGHT
BEGIN:STANDARD
TZOFFSETFROM:-0700
TZOFFSETTO:-0800
TZNAME:PST
DTSTART:20261101T090000
END:STANDARD
END:VTIMEZONE
BEGIN:VEVENT
DTSTART;TZID=America/Los_Angeles:20250412T070000
DTEND;TZID=America/Los_Angeles:20250412T120000
DTSTAMP:20260421T103659
CREATED:20240822T184525Z
LAST-MODIFIED:20240822T184525Z
UID:3979-1744441200-1744459200@millvalleygolfclub.com
SUMMARY:Three Club Master’s Championship 2025
DESCRIPTION:The second of the 5 majors of the 2025 MVGC tournament season will take place Saturday\, April 12. \nThe Three Club Masters Championship will be a 9-Hole individual Stroke Play Tournament. As the name implies\, only three clubs per Golfer will be permitted\, so choose whichever you feel is the winning combo.   \nGross & Net Champions (1st\, 2nd\, & 3rd Place + Closest to the Pin). Maximum handicap allowed of 18.4 for men and 25.4 for women. \nTies: In the event of a tie after 9 holes\, the players will play a 3-Hole playoff (The Horseshoe). \nPlease contact the Tournament Committee with any questions: \n\nPeter Noerr: peter.noerr@gmail.com\nSam Suzuki: samsuzuki415@gmail.com
URL:https://millvalleygolfclub.com/mvgc-event/three-club-masters-championship-2025/
LOCATION:Mill Valley Golf Course\, 280 Buena Vista Avenue\, Mill Valley\, CA\, 94941\, United States
CATEGORIES:Tournaments
ORGANIZER;CN="Peter Noerr":MAILTO:peter.noerr@gmail.com
END:VEVENT
BEGIN:VEVENT
DTSTART;TZID=America/Los_Angeles:20250322T080000
DTEND;TZID=America/Los_Angeles:20250322T120000
DTSTAMP:20260421T103659
CREATED:20240822T185340Z
LAST-MODIFIED:20250122T165339Z
UID:3978-1742630400-1742644800@millvalleygolfclub.com
SUMMARY:NCGA Zone Qualifier 2025
DESCRIPTION:Tee times will be 8:00am on Saturday\, March 22. Please contact Tad Inouye with your preferred time of play and if you have a preferred playing partner. If you would like a partner\, please contact Tad via text (415 847 0215)\, and we’ll do our best to find a playing partner for you. \nFormat: \n4-Person Tournament enter as a Team. Best two balls of four. \n18 hole qualifier with 1 winning team. \nThe winning team will represent Mill Valley Golf Club at the San Francisco Regional Championship April 28-29 (Mon-Tues) @ Del Monte GC and Poppy Hills GC. The top 2 teams will then advance to the Zone Championship on August 25-26 (Mon-Tues) @ Poppy Hills GC and Spyglass GC. All participants should be able to play both the sectional and the championship dates before entering. For more information please visit the NCGA Link: https://www.bluegolf.com/amateur/events/ncga25171/index.html \nNet play will be 85% of the course handicap with a maximum handicap allowed of 18.4 for men and 25.4 for women. In the case of ties\, playoffs will continue to be played across 3 holes: #1\, #2\, #9. Final rules will be emailed to participants on Friday\, March 21st\, and posted at the Pro Shop on the morning of play. \nOnly $30 entry fee including beverages on the course. Does not include your 18 hole greens fee. \nSign up now to win your way to representing Mill Valley Golf Club in the April and August Championships! \nPlay well and Good Luck!
URL:https://millvalleygolfclub.com/mvgc-event/ncga-zone-qualifier-2025/
LOCATION:Mill Valley Golf Course\, 280 Buena Vista Avenue\, Mill Valley\, CA\, 94941\, United States
CATEGORIES:Tournaments
ORGANIZER;CN="Tad Inouye":MAILTO:tadinouye@gmail.com
END:VEVENT
BEGIN:VEVENT
DTSTART;TZID=America/Los_Angeles:20250215T080000
DTEND;TZID=America/Los_Angeles:20250215T100000
DTSTAMP:20260421T103659
CREATED:20240821T165639Z
LAST-MODIFIED:20250212T180259Z
UID:3900-1739606400-1739613600@millvalleygolfclub.com
SUMMARY:NCGA Four-Ball Net Qualifier 2025
DESCRIPTION:Tee times are set for 8:00am on Saturday\, February 15. Please contact Tad Inouye with your preferred time of play and if you have a preferred playing partner. If you would like a partner\, please contact Tad via text (415 847 0215)\, and we’ll do our best to find a playing partner for you. \nFormat: \nFour-Ball (two person Best Ball) net stroke play for 18 holes. \nUp to 3 teams will be sent to sectionals on April 23-May 2\, depending on the sectional you pick.  The Championships are May 19-20 at Poppy Hills GC. All participants should be able to play both the sectional and the championship dates before entering. For more information please visit the NCGA Link: https://ncga.bluegolf.com/bluegolf/ncga25/event/ncga25189/index.htm \nPlay will be 85% of the course handicap with a maximum handicap allowed of 18.4 for men and 25.4 for women. \nOnly $30 entry fee including beverages on the course. Does not include your 18 hole greens fee. \nSign up now to reserve your spot.
URL:https://millvalleygolfclub.com/mvgc-event/ncga-4-ball-net-qualifier-2025/
LOCATION:Mill Valley Golf Course\, 280 Buena Vista Avenue\, Mill Valley\, CA\, 94941\, United States
CATEGORIES:Tournaments
ORGANIZER;CN="Tad Inouye":MAILTO:tadinouye@gmail.com
END:VEVENT
BEGIN:VEVENT
DTSTART;TZID=America/Los_Angeles:20250209T070000
DTEND;TZID=America/Los_Angeles:20250209T120000
DTSTAMP:20260421T103659
CREATED:20240822T213316Z
LAST-MODIFIED:20240822T213316Z
UID:3983-1739084400-1739102400@millvalleygolfclub.com
SUMMARY:2025 Super Bowl 2 Person Scramble
DESCRIPTION:Come play before the Super Bowl! Each member may bring one non-member to play in the tournament (non-members must also purchase an entry fee). \nFootball toss and raffle will be available! \nEntry Fee: $30/player + Applicable Greens Fee
URL:https://millvalleygolfclub.com/mvgc-event/2025-super-bowl-2-person-scramble/
LOCATION:Mill Valley Golf Course\, 280 Buena Vista Avenue\, Mill Valley\, CA\, 94941\, United States
CATEGORIES:Tournaments
ORGANIZER;CN="Peter Noerr":MAILTO:peter.noerr@gmail.com
END:VEVENT
BEGIN:VEVENT
DTSTART;TZID=America/Los_Angeles:20241214T070000
DTEND;TZID=America/Los_Angeles:20241214T120000
DTSTAMP:20260421T103659
CREATED:20240213T002341Z
LAST-MODIFIED:20240218T223424Z
UID:2940-1734159600-1734177600@millvalleygolfclub.com
SUMMARY:2024 Holiday Shamble Tournament
DESCRIPTION:The 2024 Holiday Shamble Tournament will take place Saturday\, December 14.  \nGrab a partner and get ready for the holiday season! Join us for this 2-Person Shamble format (variation of a scramble).  \nGross & Net Champions (1st\, 2nd\, & 3rd Place + Closest to the Pin) \nPlease contact the Tournament Committee with any questions: \n\nPeter Noerr: peter.noerr@gmail.com\nSam Suzuki: samsuzuki415@gmail.com
URL:https://millvalleygolfclub.com/mvgc-event/2024-holiday-shamble-tournament/
LOCATION:Golf Course
CATEGORIES:Tournaments
ORGANIZER;CN="Peter Noerr":MAILTO:peter.noerr@gmail.com
END:VEVENT
BEGIN:VEVENT
DTSTART;TZID=America/Los_Angeles:20241123T070000
DTEND;TZID=America/Los_Angeles:20241123T120000
DTSTAMP:20260421T103659
CREATED:20240213T001922Z
LAST-MODIFIED:20241119T210047Z
UID:2934-1732345200-1732363200@millvalleygolfclub.com
SUMMARY:2024 Turkey Trot Tournament
DESCRIPTION:CANCELLED DUE TO WEATHER.\nThe 2024 Turkey Trot Tournament will take place Saturday\, November 23.  \nThe Turkey Trot will be a 9-Hole individual Stroke Play tournament using the Flag Format with a full 9-Hole handicap. \nGross & Net Champions (1st\, 2nd\, & 3rd Place + Closest to the Pin). Maximum handicap allowed of 18.4 for men and 25.4 for women. \nPlease contact the Tournament Committee with any questions: \n\nPeter Noerr: peter.noerr@gmail.com\nSam Suzuki: samsuzuki415@gmail.com
URL:https://millvalleygolfclub.com/mvgc-event/2024-turkey-trot-tournament/
LOCATION:Golf Course
CATEGORIES:Tournaments
ORGANIZER;CN="Peter Noerr":MAILTO:peter.noerr@gmail.com
END:VEVENT
BEGIN:VEVENT
DTSTART;TZID=America/Los_Angeles:20240914T070000
DTEND;TZID=America/Los_Angeles:20240914T120000
DTSTAMP:20260421T103659
CREATED:20240213T001304Z
LAST-MODIFIED:20240830T180841Z
UID:2926-1726297200-1726315200@millvalleygolfclub.com
SUMMARY:2024 Club Championship Qualifier
DESCRIPTION:The 2024 Club Championship Qualifier will take place Saturday\, September 14. \nThe Club Championship Qualifier will be an 18-Hole individual Stroke Play tournament. \nThe top 15 gross scores will qualify for Club Championship Match Play. \nThe top 16 net scores will qualify for Net Club Championship Match Play. Maximum handicap allowed of 18.4 for men and 25.4 for women. \nTies: In the event of a tie there will be a card-off to determine qualifiers. \n*OFFICIAL RULES WILL BE ANNOUNCED BEFORE THE EVENT (above subject to change) \nPlease contact the Tournament Committee with any questions: \n\nPeter Noerr: peter.noerr@gmail.com\nSam Suzuki: samsuzuki415@gmail.com\n\nTournament Day Itinerary \n6:30 AM Tournament Check-In Begins \n7:00 AM Breakfast & Morning Beverages \n7:00 AM-9:30 AM Morning Wave \n12:00 PM-2:30 PM Afternoon Wave \n12:00 PM Lunch: Pig in a Pickle\, Food Locations: Pro Shop & 3rd Tee Box
URL:https://millvalleygolfclub.com/mvgc-event/2024-club-championship-qualifier/
LOCATION:Golf Course
CATEGORIES:Tournaments
ORGANIZER;CN="Peter Noerr":MAILTO:peter.noerr@gmail.com
END:VEVENT
BEGIN:VEVENT
DTSTART;TZID=America/Los_Angeles:20240810T080000
DTEND;TZID=America/Los_Angeles:20240810T093000
DTSTAMP:20260421T103659
CREATED:20240212T210134Z
LAST-MODIFIED:20240805T044003Z
UID:2868-1723276800-1723282200@millvalleygolfclub.com
SUMMARY:NCGA Net Amateur Championship 2024
DESCRIPTION:Tee times will be 8-9:30am on Saturday\, August 10. Please contact Tad Inouye via email (tadinouye@gmail.com) or mobile (415 847 0215) for your preferred time of play. \nFormat: \n18 hole qualifier with 5 winners. \nPlay will be 70% of the course handicap with a maximum handicap allowed of 18.4 for men and 25.4 for women. \nEligibility – 18 years old by October 7\, 2024. \nWinners (5) must play sectionals at following sites. \n\nSept. 10 Crystal Springs GC\nSept. 10 Paradise Valley\nSept. 11 Coyote Creek GC\nSept. 12 Del Monte GC\nSept. 13 Haggin Oaks\nSept. 17 Metropolitan Golf Links\nSept. 18 Windsor GC\n\nChampionship at Poppy Hills GC on October 7-8\, 2024. \nOnly $25 entry fee including beverages on the course. Does not include your 18 hole greens fee. \nSign up now to win your way to representing Mill Valley Golf Club in the September and October Championships! \nPlay well and Good Luck!
URL:https://millvalleygolfclub.com/mvgc-event/ncga-net-am-2024/
LOCATION:Golf Course
CATEGORIES:Tournaments
ORGANIZER;CN="Tad Inouye":MAILTO:tadinouye@gmail.com
END:VEVENT
BEGIN:VEVENT
DTSTART;TZID=America/Los_Angeles:20240720T070000
DTEND;TZID=America/Los_Angeles:20240720T120000
DTSTAMP:20260421T103659
CREATED:20240212T235856Z
LAST-MODIFIED:20240709T154226Z
UID:2915-1721458800-1721476800@millvalleygolfclub.com
SUMMARY:Stableford Tournament 2024
DESCRIPTION:Another major of the 2024 MVGC tournament season will take place Saturday\, July 20th. \nThe Stableford Tournament will be a nine-hole two-person scramble using modified Stableford Scoring. Grab a partner and signup today! \nGross & Net Champions (1st\, 2nd\, & 3rd Place + Closest to the Pin) \nTies: In the event of a tie after 9 holes\, the players will play a 3-Hole playoff (The Horseshoe). \nPlease contact the Tournament Committee with any questions: \n\nPeter Noerr: peter.noerr@gmail.com\nSam Suzuki: samsuzuki415@gmail.com
URL:https://millvalleygolfclub.com/mvgc-event/stableford-tournament-2024/
LOCATION:Golf Course
CATEGORIES:Tournaments
ORGANIZER;CN="Peter Noerr":MAILTO:peter.noerr@gmail.com
END:VEVENT
BEGIN:VEVENT
DTSTART;TZID=America/Los_Angeles:20240713T093000
DTEND;TZID=America/Los_Angeles:20240713T120000
DTSTAMP:20260421T103659
CREATED:20240212T204514Z
LAST-MODIFIED:20240212T210616Z
UID:2849-1720863000-1720872000@millvalleygolfclub.com
SUMMARY:NCGA Senior 4 Ball Net 2024
DESCRIPTION:Join us for the NCGA senior tournament! MVGC Members who meet the below criteria are eligible to compete: \n\nFemale: Age 50 and over\, Age 50 and over as of September 9\, 2024\nMale: Age 55 and over\, Age 55 and over as of September 9\, 2024\n\nPlease contact Tad Inouye at tadinouye@gmail.com for your preferred time of play and if you have a preferred playing partner. If you would like a partner\, please contact Tad via email or mobile (415 847 0215)\, and we’ll do our best to find a playing partner for you. \nFormat: \nFour-Ball (Two-Person Better Ball) net stroke play. 18 hole qualifier. \nUp to 2 teams will be sent to sectionals on August 12-22\, depending on the sectional you pick.  The Championships are on September 9-10 at Poppy Hills GC. \nPlay will be 85% of the course handicap with a maximum handicap allowed of 18.4 for men and 25.4 for women. \nOnly $25 entry fee including beverages on the course. Does not include your 18 hole greens fee. \nSign up now to reserve your spot. \n 
URL:https://millvalleygolfclub.com/mvgc-event/ncga-senior-4-ball-net-2024/
LOCATION:Golf Course
CATEGORIES:Tournaments
ORGANIZER;CN="Tad Inouye":MAILTO:tadinouye@gmail.com
END:VEVENT
BEGIN:VEVENT
DTSTART;TZID=America/Los_Angeles:20240622T070000
DTEND;TZID=America/Los_Angeles:20240622T120000
DTSTAMP:20260421T103659
CREATED:20240212T232934Z
LAST-MODIFIED:20240626T175643Z
UID:2897-1719039600-1719057600@millvalleygolfclub.com
SUMMARY:U.S. Open Championship 2024
DESCRIPTION:The third of the 5 majors of the 2024 MVGC tournament season will take place Saturday\, June 22nd. \nThe U.S. Open Championship will be a 9-Hole individual Stroke Play tournament. \nGross & Net Champions (1st\, 2nd\, & 3rd Place + Closest to the Pin). Maximum handicap allowed of 18.4 for men and 25.4 for women. \nTies: In the event of a tie after 9 holes\, the players will play a 3-Hole playoff (The Horseshoe). \nPlease contact the Tournament Committee with any questions: \n\nPeter Noerr: peter.noerr@gmail.com\nSam Suzuki: samsuzuki415@gmail.com
URL:https://millvalleygolfclub.com/mvgc-event/us-open-championship-2024/
LOCATION:Golf Course
CATEGORIES:Tournaments
ORGANIZER;CN="Peter Noerr":MAILTO:peter.noerr@gmail.com
END:VEVENT
BEGIN:VEVENT
DTSTART;TZID=America/Los_Angeles:20240518T070000
DTEND;TZID=America/Los_Angeles:20240518T150000
DTSTAMP:20260421T103659
CREATED:20240212T232956Z
LAST-MODIFIED:20240626T175628Z
UID:2892-1716015600-1716044400@millvalleygolfclub.com
SUMMARY:PGA Championship 2024
DESCRIPTION:The third of the 5 majors of the 2024 MVGC tournament season will take place Saturday\, May 18. \nThe PGA Championship will be an 18-Hole medley of spring fun! Find a partner to play with\, because this tournament will need both your expertise. \n\nHoles 1-6: Scramble\nHoles 7-12: Best Ball\nHoles 13-18: Alternate Shot\n\nGross & Net Champions (1st\, 2nd\, & 3rd Place + Closest to the Pin). Maximum handicap allowed of 18.4 for men and 25.4 for women. \nTies: In the event of a tie after 18 holes\, the players will play a 3-Hole playoff (The Horseshoe) \nPlease contact the Tournament Committee with any questions: \n\nPeter Noerr: peter.noerr@gmail.com\nSam Suzuki: samsuzuki415@gmail.com
URL:https://millvalleygolfclub.com/mvgc-event/pga-championship-2024/
LOCATION:Golf Course
CATEGORIES:Tournaments
ORGANIZER;CN="Peter Noerr":MAILTO:peter.noerr@gmail.com
END:VEVENT
END:VCALENDAR